BEGIN:VCALENDAR
VERSION:2.0
PRODID:-//C2C Regionen - ECPv6.15.12.2//NONSGML v1.0//EN
CALSCALE:GREGORIAN
METHOD:PUBLISH
X-WR-CALNAME:C2C Regionen
X-ORIGINAL-URL:https://c2c-regionen.org
X-WR-CALDESC:Veranstaltungen für C2C Regionen
REFRESH-INTERVAL;VALUE=DURATION:PT1H
X-Robots-Tag:noindex
X-PUBLISHED-TTL:PT1H
BEGIN:VTIMEZONE
TZID:Europe/Berlin
BEGIN:DAYLIGHT
TZOFFSETFROM:+0100
TZOFFSETTO:+0200
TZNAME:CEST
DTSTART:20250330T010000
END:DAYLIGHT
BEGIN:STANDARD
TZOFFSETFROM:+0200
TZOFFSETTO:+0100
TZNAME:CET
DTSTART:20251026T010000
END:STANDARD
BEGIN:DAYLIGHT
TZOFFSETFROM:+0100
TZOFFSETTO:+0200
TZNAME:CEST
DTSTART:20260329T010000
END:DAYLIGHT
BEGIN:STANDARD
TZOFFSETFROM:+0200
TZOFFSETTO:+0100
TZNAME:CET
DTSTART:20261025T010000
END:STANDARD
BEGIN:DAYLIGHT
TZOFFSETFROM:+0100
TZOFFSETTO:+0200
TZNAME:CEST
DTSTART:20270328T010000
END:DAYLIGHT
BEGIN:STANDARD
TZOFFSETFROM:+0200
TZOFFSETTO:+0100
TZNAME:CET
DTSTART:20271031T010000
END:STANDARD
END:VTIMEZONE
BEGIN:VEVENT
DTSTART;VALUE=DATE:20260917
DTEND;VALUE=DATE:20260919
DTSTAMP:20260422T134639
CREATED:20250922T120716Z
LAST-MODIFIED:20250922T120716Z
UID:4341-1789603200-1789775999@c2c-regionen.org
SUMMARY:10. Internationaler Cradle to Cradle Congress
DESCRIPTION:Am 17. und 18. September findet der 10. Internationale Cradle to Cradle Congress 2026 an der TU Berlin statt! \nDer Internationale C2C Congress ist die weltweit größte Plattform für C2C-Innovationen. Er bietet Gelegenheit zum Dialog und Networking und legt den Fokus sowohl auf bestehende C2C-Lösungen für zukunftsorientiertes Handeln als auch auf wirksame politische und regulatorische Rahmenbedingungen. Rund 1.000 Teilnehmende kommen zusammen\, um sich auszutauschen und zu vernetzen – mit Podiumsdiskussionen hochrangiger Speaker*innen aus Wirtschaft\, Politik und Wissenschaft\, Best Practices von etablierten Unternehmen und Start-ups\, inspirierenden Keynotes zur Transformation unserer Gesellschaft sowie zahlreichen Möglichkeiten für Networking. \nNetzwerkmitglieder “mit Beschluss” und “auf dem Weg” bekommen zwei Freitickets für unseren C2C Congress. Den Gutscheincode schicken wir Euch per Mail zu. Weitere Fragen dazu an: regionen@c2c.ngo. \nWir freuen uns sehr auf Eure Teilnahme!
URL:https://c2c-regionen.org/event/10-internationaler-cradle-to-cradle-congress/
LOCATION:TU Berlin\, Straße des 17. Juni 135\, Berlin\, 10623
ATTACH;FMTTYPE=image/png:https://c2c-regionen.org/wp-content/uploads/2025/09/Ohne-Titel-1-e1758542774552.png
END:VEVENT
BEGIN:VEVENT
DTSTART;TZID=Europe/Berlin:20261112T100000
DTEND;TZID=Europe/Berlin:20261112T123000
DTSTAMP:20260422T134639
CREATED:20260210T111220Z
LAST-MODIFIED:20260210T111236Z
UID:4584-1794477600-1794486600@c2c-regionen.org
SUMMARY:Fortbildung: C2C-Basics
DESCRIPTION:Dieses 2\,5-stündige digitale Format bietet einen Einstieg in das Cradle to Cradle Konzept. \nProgrammpunkte sind: \n\nUmdenken & Umgestalten nach C2C\n\nDenkschule\nDesignkonzept\nC2C Cases\nZertifizierung\n\n\nQ&A Session\nUmlenken – C2C Rahmenbedingungen schaffen\n\nGesellschaftliche Transformation\nPolitischer Rahmen\nC2C & andere Nachhaltigkeitsbewegungen\n\n\nDiskussion\n\n  \nWir freuen uns auf Eure Teilnahme!  \nHier geht es zur Anmeldung. \nKostenlose Teilnahme für Netzwerkmitglieder „mit Beschluss“ und „auf dem Weg“. Fragen dazu an: regionen@c2c.ngo.
URL:https://c2c-regionen.org/event/fortbildung-c2c-basics-2/
LOCATION:Digital
ATTACH;FMTTYPE=image/webp:https://c2c-regionen.org/wp-content/uploads/2026/02/C2C-Basics-12.11.26.png.webp
END:VEVENT
END:VCALENDAR